Package: ArrayExpress Version: 1.68.0 Command: /home/biocbuild/bbs-3.21-bioc/R/bin/R CMD INSTALL ArrayExpress StartedAt: 2025-10-05 15:20:56 -0400 (Sun, 05 Oct 2025) EndedAt: 2025-10-05 15:21:22 -0400 (Sun, 05 Oct 2025) EllapsedTime: 25.9 seconds RetCode: 0 Status: OK