Package: ArrayExpress Version: 1.68.0 Command: /home/biocbuild/bbs-3.21-bioc/R/bin/R CMD build --keep-empty-dirs --no-resave-data ArrayExpress StartedAt: 2025-10-05 16:11:45 -0400 (Sun, 05 Oct 2025) EndedAt: 2025-10-05 16:14:05 -0400 (Sun, 05 Oct 2025) EllapsedTime: 140.1 seconds RetCode: 0 Status: OK PackageFile: ArrayExpress_1.68.0.tar.gz PackageFileSize: 137.1 KiB