Package: ArrayExpress Version: 1.66.0 Command: /Library/Frameworks/R.framework/Resources/bin/R CMD INSTALL ArrayExpress StartedAt: 2025-01-30 15:29:45 -0500 (Thu, 30 Jan 2025) EndedAt: 2025-01-30 15:30:41 -0500 (Thu, 30 Jan 2025) EllapsedTime: 56.7 seconds RetCode: 0 Status: OK