Package: ArrayExpress Version: 1.66.0 Command: /Library/Frameworks/R.framework/Resources/bin/R CMD build --keep-empty-dirs --no-resave-data ArrayExpress StartedAt: 2025-01-30 18:55:37 -0500 (Thu, 30 Jan 2025) EndedAt: 2025-01-30 18:57:27 -0500 (Thu, 30 Jan 2025) EllapsedTime: 109.8 seconds RetCode: 0 Status: OK PackageFile: ArrayExpress_1.66.0.tar.gz PackageFileSize: 136.9 KiB