Package: AnnotationHubData Version: 1.38.0 Command: /home/biocbuild/bbs-3.21-bioc/R/bin/R CMD INSTALL AnnotationHubData StartedAt: 2025-10-15 15:39:41 -0400 (Wed, 15 Oct 2025) EndedAt: 2025-10-15 15:40:23 -0400 (Wed, 15 Oct 2025) EllapsedTime: 41.4 seconds RetCode: 0 Status: OK