Package: AnnotationHubData Version: 1.38.0 Command: /home/biocbuild/bbs-3.21-bioc/R/bin/R CMD build --keep-empty-dirs --no-resave-data AnnotationHubData StartedAt: 2025-10-12 16:11:07 -0400 (Sun, 12 Oct 2025) EndedAt: 2025-10-12 16:11:50 -0400 (Sun, 12 Oct 2025) EllapsedTime: 43.1 seconds RetCode: 0 Status: OK PackageFile: AnnotationHubData_1.38.0.tar.gz PackageFileSize: 400.3 KiB