Package: AnnotationHub Version: 4.0.0 Command: /home/biocbuild/bbs-3.22-bioc/R/bin/R CMD INSTALL AnnotationHub StartedAt: 2025-11-16 15:26:30 -0500 (Sun, 16 Nov 2025) EndedAt: 2025-11-16 15:26:47 -0500 (Sun, 16 Nov 2025) EllapsedTime: 16.4 seconds RetCode: 0 Status: OK