Package: AnnotationHub Version: 4.0.0 Command: /home/biocbuild/bbs-3.22-bioc/R/bin/R CMD build --keep-empty-dirs --no-resave-data --md5 AnnotationHub StartedAt: 2025-11-16 16:17:44 -0500 (Sun, 16 Nov 2025) EndedAt: 2025-11-16 16:19:49 -0500 (Sun, 16 Nov 2025) EllapsedTime: 125.2 seconds RetCode: 0 Status: OK PackageFile: AnnotationHub_4.0.0.tar.gz PackageFileSize: 979.6 KiB