Package: AnnotationHub Version: 4.0.0 Command: /Library/Frameworks/R.framework/Resources/bin/R CMD INSTALL AnnotationHub StartedAt: 2025-11-10 15:08:58 -0500 (Mon, 10 Nov 2025) EndedAt: 2025-11-10 15:09:05 -0500 (Mon, 10 Nov 2025) EllapsedTime: 7.6 seconds RetCode: 0 Status: OK