Package: AnnotationHub Version: 4.0.0 Command: /Library/Frameworks/R.framework/Resources/bin/R CMD build --keep-empty-dirs --no-resave-data AnnotationHub StartedAt: 2025-11-10 15:37:43 -0500 (Mon, 10 Nov 2025) EndedAt: 2025-11-10 15:38:43 -0500 (Mon, 10 Nov 2025) EllapsedTime: 59.7 seconds RetCode: 0 Status: OK PackageFile: AnnotationHub_4.0.0.tar.gz PackageFileSize: 978.2 KiB