Package: AnnotationDbi Version: 1.70.0 Command: /home/biocbuild/bbs-3.21-bioc/R/bin/R CMD build --keep-empty-dirs --no-resave-data AnnotationDbi StartedAt: 2025-10-15 16:10:22 -0400 (Wed, 15 Oct 2025) EndedAt: 2025-10-15 16:11:16 -0400 (Wed, 15 Oct 2025) EllapsedTime: 54.1 seconds RetCode: 0 Status: OK PackageFile: AnnotationDbi_1.70.0.tar.gz PackageFileSize: 4.17 MiB