Package: AnnotationDbi Version: 1.70.0 Command: /home/biocbuild/R/R/bin/R CMD INSTALL AnnotationDbi StartedAt: 2025-06-12 20:38:39 -0000 (Thu, 12 Jun 2025) EndedAt: 2025-06-12 20:39:07 -0000 (Thu, 12 Jun 2025) EllapsedTime: 27.6 seconds RetCode: 0 Status: OK