Package: AneuFinder Version: 1.36.0 Command: /Library/Frameworks/R.framework/Resources/bin/R CMD INSTALL AneuFinder StartedAt: 2025-05-08 15:43:57 -0400 (Thu, 08 May 2025) EndedAt: 2025-05-08 15:44:01 -0400 (Thu, 08 May 2025) EllapsedTime: 4.1 seconds RetCode: 1 Status: ERROR