Package: AneuFinder Version: 1.36.0 Command: /home/biocbuild/R/R/bin/R CMD INSTALL AneuFinder StartedAt: 2025-05-12 20:38:24 -0000 (Mon, 12 May 2025) EndedAt: 2025-05-12 20:38:27 -0000 (Mon, 12 May 2025) EllapsedTime: 2.5 seconds RetCode: 1 Status: ERROR