Package: AneuFinder Version: 1.34.0 Command: /Library/Frameworks/R.framework/Resources/bin/R CMD INSTALL AneuFinder StartedAt: 2025-01-30 15:52:58 -0500 (Thu, 30 Jan 2025) EndedAt: 2025-01-30 15:53:43 -0500 (Thu, 30 Jan 2025) EllapsedTime: 45.5 seconds RetCode: 0 Status: OK