Package: AneuFinder Version: 1.36.0 Maintainer: Aaron Taudt MaintainerEmail: aaron.taudt at gmail.com git_url: https://git.bioconductor.org/packages/AneuFinder git_branch: RELEASE_3_21 git_last_commit: b9b9941 git_last_commit_date: 2025-04-15 11:00:00 -0400 (Tue, 15 Apr 2025)