Package: AnVILPublish Version: 1.18.0 Command: /home/biocbuild/bbs-3.21-bioc/R/bin/R CMD build --keep-empty-dirs --no-resave-data AnVILPublish StartedAt: 2025-10-05 16:11:36 -0400 (Sun, 05 Oct 2025) EndedAt: 2025-10-05 16:11:45 -0400 (Sun, 05 Oct 2025) EllapsedTime: 9.0 seconds RetCode: 0 Status: OK PackageFile: AnVILPublish_1.18.0.tar.gz PackageFileSize: 236.1 KiB