Package: AnVILPublish Version: 1.18.0 Command: /Library/Frameworks/R.framework/Resources/bin/R CMD INSTALL AnVILPublish StartedAt: 2025-05-12 15:55:19 -0400 (Mon, 12 May 2025) EndedAt: 2025-05-12 15:55:44 -0400 (Mon, 12 May 2025) EllapsedTime: 24.8 seconds RetCode: 0 Status: OK