Package: AnVILPublish Version: 1.18.0 Command: /home/biocbuild/R/R/bin/R CMD INSTALL AnVILPublish StartedAt: 2025-05-15 20:20:18 -0000 (Thu, 15 May 2025) EndedAt: 2025-05-15 20:20:25 -0000 (Thu, 15 May 2025) EllapsedTime: 7.3 seconds RetCode: 0 Status: OK