Package: AlpsNMR Version: 4.10.0 Command: /Library/Frameworks/R.framework/Resources/bin/R CMD INSTALL AlpsNMR StartedAt: 2025-04-21 15:10:14 -0400 (Mon, 21 Apr 2025) EndedAt: 2025-04-21 15:10:47 -0400 (Mon, 21 Apr 2025) EllapsedTime: 33.0 seconds RetCode: 0 Status: OK