Package: AlphaMissenseR Version: 1.4.2 Command: chmod a+r AlphaMissenseR -R && E:\biocbuild\bbs-3.21-bioc\R\bin\R.exe CMD build --keep-empty-dirs --no-resave-data AlphaMissenseR StartedAt: 2025-08-14 17:18:58 -0400 (Thu, 14 Aug 2025) EndedAt: 2025-08-14 17:22:19 -0400 (Thu, 14 Aug 2025) EllapsedTime: 201.5 seconds RetCode: 0 Status: OK PackageFile: AlphaMissenseR_1.4.2.tar.gz PackageFileSize: 2.644 MiB