Package: AlphaMissenseR Version: 1.4.2 Command: rm -rf AlphaMissenseR.buildbin-libdir && mkdir AlphaMissenseR.buildbin-libdir && E:\biocbuild\bbs-3.21-bioc\R\bin\R.exe CMD INSTALL --build --library=AlphaMissenseR.buildbin-libdir AlphaMissenseR_1.4.2.tar.gz StartedAt: 2025-08-15 08:44:44 -0400 (Fri, 15 Aug 2025) EndedAt: 2025-08-15 08:45:43 -0400 (Fri, 15 Aug 2025) EllapsedTime: 59.2 seconds RetCode: 0 Status: OK PackageFile: AlphaMissenseR_1.4.2.zip PackageFileSize: 2.592 MiB