Package: AlphaBeta Version: 1.22.0 Command: /Library/Frameworks/R.framework/Resources/bin/R CMD build --keep-empty-dirs --no-resave-data AlphaBeta StartedAt: 2025-04-21 15:55:36 -0400 (Mon, 21 Apr 2025) EndedAt: 2025-04-21 16:00:35 -0400 (Mon, 21 Apr 2025) EllapsedTime: 298.4 seconds RetCode: 0 Status: OK PackageFile: AlphaBeta_1.22.0.tar.gz PackageFileSize: 2.476 MiB