Package: AlphaBeta Version: 1.22.0 Command: rm -rf AlphaBeta.buildbin-libdir && mkdir AlphaBeta.buildbin-libdir && /Users/biocbuild/BBS/utils/build-universal.sh AlphaBeta_1.22.0.tar.gz /Library/Frameworks/R.framework/Resources/bin/R AlphaBeta.buildbin-libdir StartedAt: 2025-04-22 00:33:01 -0400 (Tue, 22 Apr 2025) EndedAt: 2025-04-22 00:33:22 -0400 (Tue, 22 Apr 2025) EllapsedTime: 21.8 seconds RetCode: 0 Status: OK PackageFile: AlphaBeta_1.22.0.tgz PackageFileSize: 2.673 MiB