Package: AlphaBeta Version: 1.22.0 Command: /Library/Frameworks/R.framework/Resources/bin/R CMD check --install=check:AlphaBeta.install-out.txt --library=/Library/Frameworks/R.framework/Resources/library --no-vignettes --timings AlphaBeta_1.22.0.tar.gz StartedAt: 2025-04-21 18:06:40 -0400 (Mon, 21 Apr 2025) EndedAt: 2025-04-21 18:09:04 -0400 (Mon, 21 Apr 2025) EllapsedTime: 143.9 seconds RetCode: 0 Status: OK CheckDir: AlphaBeta.Rcheck Warnings: 0