Package: AllelicImbalance Version: 1.44.0 Command: /home/biocbuild/R/R/bin/R CMD INSTALL AllelicImbalance StartedAt: 2025-02-10 20:47:02 -0000 (Mon, 10 Feb 2025) EndedAt: 2025-02-10 20:48:13 -0000 (Mon, 10 Feb 2025) EllapsedTime: 70.7 seconds RetCode: 0 Status: OK