Package: AgiMicroRna Version: 2.58.0 Command: E:\biocbuild\bbs-3.21-bioc\R\bin\R.exe CMD INSTALL AgiMicroRna StartedAt: 2025-08-14 17:01:34 -0400 (Thu, 14 Aug 2025) EndedAt: 2025-08-14 17:03:08 -0400 (Thu, 14 Aug 2025) EllapsedTime: 94.4 seconds RetCode: 0 Status: OK