Package: AgiMicroRna Version: 2.58.0 Command: /Library/Frameworks/R.framework/Resources/bin/R CMD build --keep-empty-dirs --no-resave-data AgiMicroRna StartedAt: 2025-04-21 15:36:14 -0400 (Mon, 21 Apr 2025) EndedAt: 2025-04-21 15:37:15 -0400 (Mon, 21 Apr 2025) EllapsedTime: 60.7 seconds RetCode: 0 Status: OK PackageFile: AgiMicroRna_2.58.0.tar.gz PackageFileSize: 3.066 MiB