Package: AgiMicroRna Version: 2.58.0 Command: rm -rf AgiMicroRna.buildbin-libdir && mkdir AgiMicroRna.buildbin-libdir && /Users/biocbuild/BBS/utils/build-universal.sh AgiMicroRna_2.58.0.tar.gz /Library/Frameworks/R.framework/Resources/bin/R AgiMicroRna.buildbin-libdir StartedAt: 2025-04-21 22:25:37 -0400 (Mon, 21 Apr 2025) EndedAt: 2025-04-21 22:26:06 -0400 (Mon, 21 Apr 2025) EllapsedTime: 28.5 seconds RetCode: 0 Status: OK PackageFile: AgiMicroRna_2.58.0.tgz PackageFileSize: 3.526 MiB