Package: AffyRNADegradation Version: 1.52.0 Command: /home/biocbuild/R/R/bin/R CMD build --keep-empty-dirs --no-resave-data AffyRNADegradation StartedAt: 2025-01-30 21:27:58 -0000 (Thu, 30 Jan 2025) EndedAt: 2025-01-30 21:29:28 -0000 (Thu, 30 Jan 2025) EllapsedTime: 90.0 seconds RetCode: 0 Status: OK PackageFile: AffyRNADegradation_1.52.0.tar.gz PackageFileSize: 358.9 KiB