Package: AffyRNADegradation Version: 1.54.0 Command: /Library/Frameworks/R.framework/Resources/bin/R CMD build --keep-empty-dirs --no-resave-data AffyRNADegradation StartedAt: 2025-10-13 16:59:28 -0400 (Mon, 13 Oct 2025) EndedAt: 2025-10-13 17:02:01 -0400 (Mon, 13 Oct 2025) EllapsedTime: 153.1 seconds RetCode: 0 Status: OK PackageFile: AffyRNADegradation_1.54.0.tar.gz PackageFileSize: 365.2 KiB