Package: AffiXcan Version: 1.26.0 Command: rm -rf AffiXcan.buildbin-libdir && mkdir AffiXcan.buildbin-libdir && /Users/biocbuild/BBS/utils/build-universal.sh AffiXcan_1.26.0.tar.gz /Library/Frameworks/R.framework/Resources/bin/R AffiXcan.buildbin-libdir StartedAt: 2025-05-09 11:49:03 -0400 (Fri, 09 May 2025) EndedAt: 2025-05-09 11:49:57 -0400 (Fri, 09 May 2025) EllapsedTime: 54.3 seconds RetCode: 0 Status: OK PackageFile: AffiXcan_1.26.0.tgz PackageFileSize: 2.032 MiB