Package: AffiXcan Version: 1.26.0 Command: /home/biocbuild/R/R/bin/R CMD INSTALL AffiXcan StartedAt: 2025-05-08 20:39:32 -0000 (Thu, 08 May 2025) EndedAt: 2025-05-08 20:40:02 -0000 (Thu, 08 May 2025) EllapsedTime: 30.6 seconds RetCode: 0 Status: OK