Package: AffiXcan Version: 1.26.0 Command: rm -rf AffiXcan.buildbin-libdir && mkdir AffiXcan.buildbin-libdir && /Users/biocbuild/BBS/utils/build-universal.sh AffiXcan_1.26.0.tar.gz /Library/Frameworks/R.framework/Resources/bin/R AffiXcan.buildbin-libdir StartedAt: 2025-04-21 22:25:30 -0400 (Mon, 21 Apr 2025) EndedAt: 2025-04-21 22:25:41 -0400 (Mon, 21 Apr 2025) EllapsedTime: 11.2 seconds RetCode: 0 Status: OK PackageFile: AffiXcan_1.26.0.tgz PackageFileSize: 2.033 MiB