Package: AWAggregator Version: 1.0.0 Command: /home/biocbuild/bbs-3.22-bioc/R/bin/R CMD INSTALL AWAggregator StartedAt: 2025-11-05 15:18:10 -0500 (Wed, 05 Nov 2025) EndedAt: 2025-11-05 15:18:18 -0500 (Wed, 05 Nov 2025) EllapsedTime: 8.0 seconds RetCode: 0 Status: OK