Package: AWAggregator Version: 1.0.0 Command: /Library/Frameworks/R.framework/Resources/bin/R CMD INSTALL AWAggregator StartedAt: 2025-11-03 15:17:06 -0500 (Mon, 03 Nov 2025) EndedAt: 2025-11-03 15:17:41 -0500 (Mon, 03 Nov 2025) EllapsedTime: 35.5 seconds RetCode: 0 Status: OK