Package: AWAggregator Version: 1.0.0 Command: /Library/Frameworks/R.framework/Resources/bin/R CMD build --keep-empty-dirs --no-resave-data AWAggregator StartedAt: 2025-11-03 16:06:12 -0500 (Mon, 03 Nov 2025) EndedAt: 2025-11-03 16:14:46 -0500 (Mon, 03 Nov 2025) EllapsedTime: 514.7 seconds RetCode: 0 Status: OK PackageFile: AWAggregator_1.0.0.tar.gz PackageFileSize: 273.5 KiB