Package: AWAggregator Version: 1.0.0 Command: rm -rf AWAggregator.buildbin-libdir && mkdir AWAggregator.buildbin-libdir && /Users/biocbuild/BBS/utils/build-universal.sh AWAggregator_1.0.0.tar.gz /Library/Frameworks/R.framework/Resources/bin/R AWAggregator.buildbin-libdir StartedAt: 2025-11-04 01:28:15 -0500 (Tue, 04 Nov 2025) EndedAt: 2025-11-04 01:28:27 -0500 (Tue, 04 Nov 2025) EllapsedTime: 11.6 seconds RetCode: 0 Status: OK PackageFile: AWAggregator_1.0.0.tgz PackageFileSize: 304.4 KiB