Package: AWAggregator Version: 1.0.0 Command: /Library/Frameworks/R.framework/Resources/bin/R CMD INSTALL AWAggregator StartedAt: 2025-11-05 15:37:05 -0500 (Wed, 05 Nov 2025) EndedAt: 2025-11-05 15:37:11 -0500 (Wed, 05 Nov 2025) EllapsedTime: 5.2 seconds RetCode: 0 Status: OK