Package: AWAggregator Version: 1.0.0 Command: /Library/Frameworks/R.framework/Resources/bin/R CMD build --keep-empty-dirs --no-resave-data AWAggregator StartedAt: 2025-11-05 16:11:10 -0500 (Wed, 05 Nov 2025) EndedAt: 2025-11-05 16:13:24 -0500 (Wed, 05 Nov 2025) EllapsedTime: 134.4 seconds RetCode: 0 Status: OK PackageFile: AWAggregator_1.0.0.tar.gz PackageFileSize: 273.8 KiB