Package: AWAggregator Version: 1.0.0 Command: rm -rf AWAggregator.buildbin-libdir && mkdir AWAggregator.buildbin-libdir && /Users/biocbuild/BBS/utils/build-universal.sh AWAggregator_1.0.0.tar.gz /Library/Frameworks/R.framework/Resources/bin/R AWAggregator.buildbin-libdir StartedAt: 2025-11-05 23:54:48 -0500 (Wed, 05 Nov 2025) EndedAt: 2025-11-05 23:54:52 -0500 (Wed, 05 Nov 2025) EllapsedTime: 4.1 seconds RetCode: 0 Status: OK PackageFile: AWAggregator_1.0.0.tgz PackageFileSize: 305.3 KiB