Package: AWAggregator Version: 1.0.0 Command: /Library/Frameworks/R.framework/Resources/bin/R CMD INSTALL AWAggregator StartedAt: 2025-11-20 16:16:40 -0500 (Thu, 20 Nov 2025) EndedAt: 2025-11-20 16:16:48 -0500 (Thu, 20 Nov 2025) EllapsedTime: 7.5 seconds RetCode: 0 Status: OK