Package: AWAggregator Version: 1.0.0 Command: /Library/Frameworks/R.framework/Resources/bin/R CMD build --keep-empty-dirs --no-resave-data AWAggregator StartedAt: 2025-11-20 20:12:44 -0500 (Thu, 20 Nov 2025) EndedAt: 2025-11-20 20:19:33 -0500 (Thu, 20 Nov 2025) EllapsedTime: 409.1 seconds RetCode: 0 Status: OK PackageFile: AWAggregator_1.0.0.tar.gz PackageFileSize: 273.8 KiB