Package: AWAggregator Version: 1.0.0 Command: rm -rf AWAggregator.buildbin-libdir && mkdir AWAggregator.buildbin-libdir && /Users/biocbuild/BBS/utils/build-universal.sh AWAggregator_1.0.0.tar.gz /Library/Frameworks/R.framework/Resources/bin/R AWAggregator.buildbin-libdir StartedAt: 2025-11-23 07:14:12 -0500 (Sun, 23 Nov 2025) EndedAt: 2025-11-23 07:14:24 -0500 (Sun, 23 Nov 2025) EllapsedTime: 12.4 seconds RetCode: 0 Status: OK PackageFile: AWAggregator_1.0.0.tgz PackageFileSize: 304.7 KiB