Package: AWAggregator Version: 1.0.0 Maintainer: Jiahua Tan MaintainerEmail: jiahuatan at chem.ubc.ca git_url: https://git.bioconductor.org/packages/AWAggregator git_branch: RELEASE_3_22 git_last_commit: 8fdf64b git_last_commit_date: 2025-10-29 11:37:18 -0500 (Wed, 29 Oct 2025)