Package: ATACseqTFEA Version: 1.10.0 Command: rm -rf ATACseqTFEA.buildbin-libdir && mkdir ATACseqTFEA.buildbin-libdir && /Users/biocbuild/BBS/utils/build-universal.sh ATACseqTFEA_1.10.0.tar.gz /Library/Frameworks/R.framework/Resources/bin/R ATACseqTFEA.buildbin-libdir StartedAt: 2025-10-08 19:46:12 -0400 (Wed, 08 Oct 2025) EndedAt: 2025-10-08 19:47:11 -0400 (Wed, 08 Oct 2025) EllapsedTime: 59.4 seconds RetCode: 0 Status: OK PackageFile: ATACseqTFEA_1.10.0.tgz PackageFileSize: 4.866 MiB