Package: ATACseqQC Version: 1.30.0 Command: /home/biocbuild/R/R/bin/R CMD build --keep-empty-dirs --no-resave-data ATACseqQC StartedAt: 2025-01-30 21:36:07 -0000 (Thu, 30 Jan 2025) EndedAt: 2025-01-30 21:39:58 -0000 (Thu, 30 Jan 2025) EllapsedTime: 231.1 seconds RetCode: 0 Status: OK PackageFile: ATACseqQC_1.30.0.tar.gz PackageFileSize: 13.93 MiB