Package: ATACseqQC Version: 1.32.0 Command: rm -rf ATACseqQC.buildbin-libdir && mkdir ATACseqQC.buildbin-libdir && /Users/biocbuild/BBS/utils/build-universal.sh ATACseqQC_1.32.0.tar.gz /Library/Frameworks/R.framework/Resources/bin/R ATACseqQC.buildbin-libdir StartedAt: 2025-05-09 11:52:05 -0400 (Fri, 09 May 2025) EndedAt: 2025-05-09 11:54:07 -0400 (Fri, 09 May 2025) EllapsedTime: 122.3 seconds RetCode: 0 Status: OK PackageFile: ATACseqQC_1.32.0.tgz PackageFileSize: 14.23 MiB