Package: ATACseqQC Version: 1.32.0 Command: /home/biocbuild/R/R/bin/R CMD INSTALL ATACseqQC StartedAt: 2025-04-21 21:09:39 -0000 (Mon, 21 Apr 2025) EndedAt: 2025-04-21 21:10:58 -0000 (Mon, 21 Apr 2025) EllapsedTime: 79.0 seconds RetCode: 0 Status: OK