Package: ATACseqQC Version: 1.32.0 Command: /home/biocbuild/R/R/bin/R CMD check --install=check:ATACseqQC.install-out.txt --library=/home/biocbuild/R/R/site-library --no-vignettes --timings ATACseqQC_1.32.0.tar.gz StartedAt: 2025-04-22 06:04:56 -0000 (Tue, 22 Apr 2025) EndedAt: 2025-04-22 06:19:20 -0000 (Tue, 22 Apr 2025) EllapsedTime: 864.0 seconds RetCode: 0 Status: OK CheckDir: ATACseqQC.Rcheck Warnings: 0